BEGIN:VCALENDAR
VERSION:2.0
PRODID:-//Poseidon navtika
CALSCALE:GREGORIAN
METHOD:PUBLISH
X-WR-CALNAME:Poseidon navtika
X-ORIGINAL-URL:https://poseidon-navtika.si/webinar-tecaj-za-voditelja-colna-napredni-ucbenik-08-06-10-06-2026-18h-21h/
X-WR-CALDESC:Webinar tečaj za voditelja čolna &#8211; Napredni učbenik &#8211; 08.06. &#8211; 10.06. 2026 (18h- 21h)
BEGIN:VTIMEZONE
TZID:Europe/Helsinki
END:VTIMEZONE
BEGIN:VEVENT
DTSTART;TZID=Europe/Helsinki:20260608T180000
DTEND;TZID=Europe/Helsinki:20260610T210000
DTSTAMP:20260419T213157
UID:33742-info@poseidon-navtika.si
SUMMARY:Webinar tečaj za voditelja čolna – Napredni učbenik – 08.06. – 10.06. 2026 (18h- 21h)
DESCRIPTION:Udeležite se našega spletnega tečaja in pomagali vam bomo pridobiti naziv voditelj čolna za vsa plovila do dolžine 24m. Naša navtična ekipa bo poskrbela, da postanete samostojen in samozavesten voditelj čolna.
URL:https://poseidon-navtika.si/webinar-tecaj-za-voditelja-colna-napredni-ucbenik-08-06-10-06-2026-18h-21h/
LOCATION:Slovenia
END:VEVENT
END:VCALENDAR
